Workbook

Sheet Instructions
A1: OVERVIEW
A2: This University Accountability Report (UAR) must be completed and submitted to Clerk of the City of Boston by November 1st for the fall quarter/semester. Please complete the form according to the instructions below. Please note that blank, "N/A", or "Unknown" responses will not be accepted.
A4: INSTRUCTIONS
A5: 1. Download or make a copy of this worskheet
A6: 2. Update the file name with your School Name and Academic Year
A7: 3. Review the instructions and supporting information in 'Glossary of Terms' and 'Data Dictionary' tabs
A8: 4. Complete the form. Send any questions you have about the form to Brian White (brian.white@boston.gov, 617-635-3880).
A9: 5. Upload your completed form to your School's UAR Reports folder (see the original e-mail)
A11: SUMMARY [FOR USE BY CITY CLERK'S OFFICE ONLY]
A12: Total Enrollment (# of Students) | B12: Enrolled Students Living ON Campus in the City of Boston | C12: Enrolled Students Living OFF Campus in the City of Boston | D12: Properties in Boston (Owned and Leased)
A13: ='Summary Stats'!C6 | B13: ='Summary Stats'!I12 -> 0 | C13: ='Summary Stats'!I16 -> 0 | D13: =SUM('University Bldgs'!D4,'University Bldgs'!D5) -> 0

Sheet Data Dictionary
A1: SUMMARY STATS TAB
A2: Box # | B2: Prompt | C2: Please provide the following information:
A3: 1 | B3: University Name | C3: The full name of the University
A4: 2a | B4: Date of Directory | C4: The date for which the information is provided
A5: 3a | B5: University Contact Name | C5: The name of a contact person at the University who can answer questions about the information provided
A6: 3b | B6: University Contact Email | C6: The email address of the person listed in box 3a
A7: 4a-4L | B7: Enrollment | C7: The enrollment numbers for the University's local campus, excluding students enrolled exclusively in online programs and satellite campuses outside of the Boston area or the state (i.e. Madrid or Charlotte). These cells correspond to total undergraduate enrollment (full-time and part-time) and total graduate enrollment (full-time and part-time).
A8: 5 | B8: Comments | C8: Please note any housing arrangements not captured by the questionnaire, students with unknown or suppressed data, or any problems/irregularities related to categorizing student housing.
A9: 6 | B9: Students Enrolled and Residing | C9: The total number of students fitting each category provided, according to housing arrangement, program of enrollment (undergraduate or graduate) and enrollment status (full-time or part-time); please include only students enrolled at the University's local campus (Boston and immediate environments) and exclude students enrolled exclusively in online programs. Note that the bulleted lines should sum to the (Total) lines.
A11: STUDENT ADDRESSES TAB
A12: Please complete boxes 6a-11 ONLY for students who do NOT reside in University-owned or University-managed buildings but DO reside in the City of Boston.
A13: 6a | B13: Street # | C13: The street number of the building in which the student resides during the school year (which may differ from the mailing address); P.O. Boxes are not accepted.
A14: 6b | B14: Street Name and Suffix | C14: The full street name, including suffix (ST, RD, AVE, etc.), of the building in which the student resides during the school year (which may differ from the mailing address); P.O. Boxes are not accepted.
A15: 6c | B15: Unit # | C15: The number of the unit in which the student resides during the school year; blank, "N/A", or "Unknown" answers will not be accepted. If the address is a single-family home, please type "SF".
A16: 6d | B16: Zip | C16: The zip code of the address given in boxes 6a-6d.
A17: 7 | B17: Undergraduate (U) or Graduate (G) | C17: Whether the student is currently enrolled in an undergraduate (U) or graduate (G) program
A18: 8 | B18: Full-time (FT) or Part-time (PT) | C18: Whether the student is currently enrolled with full-time (FT) or part-time (PT) status
A19: 9 | B19: 9. At-Home vs Not-at-Home | C19: Identify whether the address provided is for students residing at-home or not-at-home.
A21: University Buildings Tab
A22: Box # | B22: Prompt | C22: Please provide the following information:
A23: 1a | B23: Total Buildings Owned for Student Housing | C23: The total number of buildings located inside or outside the City of Boston and owned by the University for the purpose of housing students; each separate address constitutes a separate building.
A24: 1b | B24: Total Units Owned | C24: The total number of units located in University-owned buildings inside or outside the City of Boston and used to house students
A25: 1c | B25: Total Buildings Leased for Student Housing | C25: The total number of buildings located inside or outside the City of Boston and leased/rented in whole or in part by the University to house students; each separate address constitutes a separate building.
A26: 1d | B26: Total Units Leased | C26: The total number of units located in buildings leased/rented by the University inside or outside the City of Boston and used to house students
A27: 2a | B27: Total Buildings Owned for Student Housing in Boston | C27: The total number of buildings located in the City of Boston and owned by the University for the purpose of housing students; each separate address constitutes a separate building.
A28: 2b | B28: Total Units Owned in Boston | C28: The total number of units located in University-owned buildings in the City of Boston and used to house students
A29: 2c | B29: Total Buildings Leased for Student Housing in Boston | C29: The total number of buildings located in the City of Boston and leased/rented in whole or in part by the University to house students; each separate address constitutes a separate building.
A30: 2d | B30: Total Units Leased in Boston | C30: The total number of units located in buildings leased/rented by the University in the City of Boston and used to house students
A31: 3 | B31: Comments | C31: Please note any property arrangements not captured by the questionnaire or any problems/irregularities related to any University-affiliated property of which the City should be aware.
A32: 4a | B32: Street # | C32: The street number of the building
A33: 4b | B33: Street Name | C33: The street where the building is located
A34: 4c | B34: Street Suffix | C34: The suffix (ST, RD, AVE, etc.) for the street in box 6b; please do not include the suffix in box 6b.
A35: 4d | B35: Zip | C35: The zip code of the address given in boxes 6a-6d
A36: 5 | B36: Owned (O) or Leased (L) | C36: Whether the University owns (O) the building or leases/rents (L) the building in whole or in part
A37: 6 | B37: Operated by University (Y/N) | C37: Whether the building is professionally managed by the University (Y/N)
A38: 7a | B38: Total Units in Bldg. | C38: The total number of units in the building
A39: 7b | B39: # Units Leased to University | C39: The total number of units leased by the University for the purpose of housing students; leave blank if the building is owned by the University
A40: 8a | B40: # Undergrads Residing in Bldg. | C40: The total number of undergraduate students (full-time or part-time) enrolled at this University housed in the building
A41: 8b | B41: # Grads Residing in Bldg. | C41: The total number of graduate students (full-time or part-time) enrolled at this University housed in the building
A42: 9 | B42: City of Boston Rental Registration Number | C42: The number assigned to the building through the City's rental registration process. If the building is unregistered, please type "NR".
...

Sheet Glossary of Terms
A1: Glossary of Terms | B1: Description | C1: Type A | D1: Type B | E1: Type C
A2: Enrollment | B2: Students registered at your institution's Boston campuses | C2: EXCLUDE: Any satellite campuses outside of Boston (i.e. Campuses in Seattle or Madrid) | D2: EXCLUDE: Students registered for online programs | E2: EXCLUDE OR NOTE SEPERATELY: Non-traditional students in evening/weekend programs in professional or advanced education who are primarily on part-time schedules
A3: On-campus Housing | B3: Any residence hall or housing facility owned or controlled by an institution within the same reasonably contiguous geographic area and used by the institution in direct support of or in a manner related to, the institution's educational purposes. We outlined three types: ownership, managed/affiliated, and cross-leasing. | C3: Ownership: dormitories/facilities owned by the school | D3: Managed/Affiliated: Leased properties regulated similar to dorms and considered on-campus | E3: Cross-Leasing: Student housed in dormitories or housing facilities owned or controlled by another institution
A4: Off-campus Housing | B4: A living arrangement in which a student does not live in any housing facility that is not owned or controlled by the educational institution. There are three types (private, at-home, managed/affiliated). | C4: Not-at-Home: When a student does not live with their parents or legal guardians or in any housing facility that is owned or controlled by the educational institution. This category aims to identify students who entered a particular housing market primarily to study at a given institution. | D4: At-Home: A living arrangement in which a student lives with the student's parents or legal guardians in any housing facility that is not owned or controlled by the educational institution. For part-timers, non-traditional students or graduate students, being a commuter means "living at home" - a place one lives prior to becoming a student and not obtained sole for the purposes of having a place to stay while being a student. Generally, living at home is when the “local/mailing” address and the “home/permanent” address are the same in the institutional database. | E4: University/Affiliated Housing: Owned, leased or university affiliated properties (i.e. fraternity houses) that are considered off-campus
A5: Full-Time | B5: Undergraduate: A student enrolled for 12 or more semester credits, or 12 or more quarter credits, or 24 or more contact hours a week each term. Graduate: A student enrolled for 9 or more semester credits, or 9 or more quarter credits, or a student involved in thesis or dissertation preparation that is considered full-time by the institution.
A6: Part-Time | B6: Undergraduate: A student enrolled for either less than 12 semester or quarter credits, or less than 24 contact hours a week each term. Graduate: A student enrolled for less than 9 semester or quarter credits.
A7: Study abroad | B7: Arrangement by which a student completes part of the college program studying in another country. This can be at a campus abroad or through a cooperative agreement with some other U.S. college or an institution of another country.
A8: Cooperative (work-study) program | B8: A program that provides for alternate class attendance and employment in business, industry, or government.
A9: Note: The majority of these definitions are borrowed or based on the glossary of the Integrated Post-Secondary Education Data System, National Center for Education Statistics

Sheet Summary Stats
A1: University Accountability Report for Student Housing Please refer to the Instructions & Data Dictionary tabs to complete this form. Beige cells are auto-populated and do not need to be filled out.
A2: 1. University Name: | J2: 5. Comments:
A3: 2 Date of Directory:
A4: 3a. University Contact Name:
A5: 3b. University Contact Email:
A6: 4a. Total Enrollment: | F6: 4b. Total Undergraduate Enrollment: | J6: 4c. Total Graduate Enrollment:
A7: 4d. Total Full-Time Enrollment: | F7: 4e. Total Full-Time Undergraduate Enrollment: | J7: 4f. Total Full-Time Graduate Enrollment:
A8: 4G. Total Part-Time Enrollment: | F8: 4H. Total Part-Time Undergraduate Enrollment: | J8: 4I. Total Part-Time Graduate Enrollment:
A10: 5. Students Enrolled and Residing: | C10: Undergraduates | F10: Graduates | I10: All Students
C11: Full-Time | D11: Part-Time | E11: Total | F11: Full-Time | G11: Part-Time | H11: Total | I11: Total
A12: On-Campus in the City of Boston (Total): | D12: =SUM(D13:D15) -> 0 | E12: =SUM(C12+D12) -> 0 | F12: =SUM(F13:F15) -> 0 | G12: =SUM(G13:G15) -> 0 | H12: =SUM(F12+G12) -> 0 | I12: =E12+H12 -> 0
A13: · | B13: On-Campus | E13: =SUM(C13+D13) -> 0 | H13: =SUM(F13+G13) -> 0 | I13: =E13+H13 -> 0
A14: · | B14: On-Campus in University/Affiliated Housing | E14: =SUM(C14+D14) -> 0 | H14: =SUM(F14+G14) -> 0 | I14: =E14+H14 -> 0
A15: · | B15: On dorms cross-leased from another university: | E15: =SUM(C15+D15) -> 0 | H15: =SUM(F15+G15) -> 0 | I15: =E15+H15 -> 0
A16: Off-Campus in the City of Boston (Total): | C16: =SUM(C17:C20) -> 0 | D16: =SUM(D17:D20) -> 0 | E16: =SUM(C16+D16) -> 0 | F16: =SUM(F17:F20) -> 0 | G16: =SUM(G17:G20) -> 0 | H16: =SUM(F16+G16) -> 0 | I16: =E16+H16 -> 0
A17: · | B17: Off-Campus not-at-home or in university-managed/affiliated housing (formally referred to as private housing in previous UAR forms) | E17: =SUM(C17+D17) -> 0 | H17: =SUM(F17+G17) -> 0 | I17: =E17+H17 -> 0
A18: · | B18: Off-Campus (at-home) | E18: =SUM(C18+D18) -> 0 | H18: =SUM(F18+G18) -> 0 | I18: =E18+H18 -> 0
A19: · | B19: Off-Campus in University managed/affiliated housing: | E19: =SUM(C19+D19) -> 0 | H19: =SUM(F19+G19) -> 0 | I19: =E19+H19 -> 0
A20: · | B20: Off-Campus Other (define other in comment box): | E20: =SUM(C20+D20) -> 0 | H20: =SUM(F20+G20) -> 0 | I20: =E20+H20 -> 0
A22: 5. Students Enrolled and Residing: | C22: Undergraduates | F22: Graduates | I22: All Students
C23: Full-Time | D23: Part-Time | E23: Total | F23: Full-Time | G23: Part-Time | H23: Total | I23: Total
A24: On-Campus outside of Boston (Total): | C24: =SUM(C25:C27) -> 0 | D24: =SUM(D25:D27) -> 0 | E24: =SUM(C24+D24) -> 0 | F24: =SUM(F25:F27) -> 0 | G24: =SUM(G25:G27) -> 0 | H24: =SUM(F24+G24) -> 0 | I24: =E24+H24 -> 0
A25: · | B25: On-Campus | E25: =SUM(C25+D25) -> 0 | H25: =SUM(F25+G25) -> 0 | I25: =E25+H25 -> 0
A26: · | B26: On-Campus in university/affiliated Housing | E26: =SUM(C26+D26) -> 0 | H26: =SUM(F26+G26) -> 0 | I26: =E26+H26 -> 0
A27: · | B27: On dorms cross-leased from another university: | E27: =SUM(C27+D27) -> 0 | H27: =SUM(F27+G27) -> 0 | I27: =E27+H27 -> 0
A28: Off-Campus outside of Boston (Total): | C28: =SUM(C29:C33) -> 0 | D28: =SUM(D29:D33) -> 0 | E28: =SUM(C28+D28) -> 0 | F28: =SUM(F29:F33) -> 0 | G28: =SUM(G29:G33) -> 0 | H28: =SUM(F28+G28) -> 0 | I28: =E28+H28 -> 0
A29: · | B29: Off-Campus not-at-home or in university-managed/affiliated housing (formally referred to as private housing in previous UAR forms) | E29: =SUM(C29+D29) -> 0 | H29: =SUM(F29+G29) -> 0 | I29: =E29+H29 -> 0
A30: · | B30: Off-Campus (at-home) | E30: =SUM(C30+D30) -> 0 | H30: =SUM(F30+G30) -> 0 | I30: =E30+H30 -> 0
A31: · | B31: Off-Campus in University managed/affiliated housing: | E31: =SUM(C31+D31) -> 0 | H31: =SUM(F31+G31) -> 0 | I31: =E31+H31 -> 0
A32: · | B32: Off-Campus Other (define other in comment box): | E32: =SUM(C32+D32) -> 0 | H32: =SUM(F32+G32) -> 0 | I32: =E32+H32 -> 0
A33: · | B33: Study Abroad | E33: =SUM(C33+D33) -> 0 | H33: =SUM(F33+G33) -> 0 | I33: =E33+H33 -> 0
A35: GRAND TOTALS (DO NOT WRITE IN ANY CELL) | C35: Undergraduates | F35: Graduates | I35: All Students
C36: Full-Time | D36: Part-Time | E36: Total | F36: Full-Time | G36: Part-Time | H36: Total | I36: Grand Total
A37: On-Campus (Total): | C37: =C12+C24 -> 0 | D37: =D12+D24 -> 0 | E37: =E12+E24 -> 0 | F37: =F12+F24 -> 0 | G37: =G12+G24 -> 0 | H37: =H12+H24 -> 0 | I37: =I12+I24 -> 0
A38: · | B38: On-Campus | C38: =C13+C25 -> 0 | D38: =D13+D25 -> 0 | E38: =E13+E25 -> 0 | F38: =F13+F25 -> 0 | G38: =G13+G25 -> 0 | H38: =H13+H25 -> 0 | I38: =I13+I25 -> 0
A39: · | B39: On-Campus in university/affiliated Housing | C39: =C14+C26 -> 0 | D39: =D14+D26 -> 0 | E39: =E14+E26 -> 0 | F39: =F14+F26 -> 0 | G39: =G14+G26 -> 0 | H39: =H14+H26 -> 0 | I39: =I14+I26 -> 0
A40: · | B40: On dorms cross-leased from another university: | C40: =C15+C27 -> 0 | D40: =D15+D27 -> 0 | E40: =E15+E27 -> 0 | F40: =F15+F27 -> 0 | G40: =G15+G27 -> 0 | H40: =H15+H27 -> 0 | I40: =I15+I27 -> 0
A41: Off-Campus (Total): | C41: =C16+C28 -> 0 | D41: =D16+D28 -> 0 | E41: =E16+E28 -> 0 | F41: =F16+F28 -> 0 | G41: =G16+G28 -> 0 | H41: =H16+H28 -> 0 | I41: =I16+I28 -> 0
A42: · | B42: Off-Campus not-at-home or in university-managed/affiliated housing (formally referred to as private housing in previous UAR forms) | C42: =C17+C29 -> 0 | D42: =D17+D29 -> 0 | E42: =E17+E29 -> 0 | F42: =F17+F29 -> 0 | G42: =G17+G29 -> 0 | H42: =H17+H29 -> 0 | I42: =I17+I29 -> 0
A43: · | B43: Off-Campus (at-home) | C43: =C18+C30 -> 0 | D43: =D18+D30 -> 0 | E43: =E18+E30 -> 0 | F43: =F18+F30 -> 0 | G43: =G18+G30 -> 0 | H43: =H18+H30 -> 0 | I43: =I18+I30 -> 0
...

Sheet Student Addresses
A1: Students Residing Off Campus in Boston
A2: Instructions: • Please complete the addresses for students residing off-campus in Boston. • The totals should closely match row 17 and row 18 of the Summary Stats tab (excluding students with suppressed addresses). • In Column 9, please provide a flag/label for which address are at-home (commuter) and not-at-home, based on the definitions in the Glossary of Terms tab. If all address are for students residing in private housing (not-at-home) feel free to leave column 9 blank. • Columns H and K will auto-populate with a flag indicating if the address should include a unit number in column 6c. This information is included to assist in providing complete addresses; if you think the flag is incorrect, you may let us know. | H2: Number of Addresses Missing Street Numbers: | K2: Number of Addresses Missing Unit Information:
A3: 6a. Street # | B3: 6b. Street Name and Suffix | C3: 6c. Unit # | D3: 6d. Zip | E3: 7. Undergraduate (U) or Graduate (G) | F3: 8. Full-time (FT) or Part-time (PT) | G3: 9. At-Home or Not-at-Home | H3: =COUNTIFS($H$4:$H16155,"Missing Street Number") -> 0 | I3: Punctuation Removed | J3: Suffix Formatting | K3: =COUNTIFS(K4:K16155,"UNIT NEEDED") -> 0
H4: {=IF(B4:B16155="","",IF(A4:A16155="","Missing Street Number","Ok"))} | I4: =IFERROR(__xludf.DUMMYFUNCTION("ARRAYFORMULA(IF(B4:B16155="""","""", REGEXREPLACE((A4:A16155&"" ""& B4:B16155),""[.,]"","""")))"),"") | J4: =IFERROR(__xludf.DUMMYFUNCTION("ARRAYFORMULA(IF(I4:I16155="""","""", REGEXREPLACE(I4:I16155,""[^ ]+$"",XLOOKUP(REGEXEXTRACT(I4:I16155,""[^ ]+$""),St_Suffixes[input],St_Suffixes[suffix],REGEXEXTRACT(I4:I16155,""[^ ]+$"")))))"),"") | K4: {=IF(J4:J16155="","", IF(ISNUMBER( MATCH(J4:J16155,Unit_Check[Full Address Formatted],0)),IF(ISBLANK(C4:C16155),"UNIT NEEDED", "Ok"), "Ok"))}
I5: =IFERROR(__xludf.DUMMYFUNCTION("""COMPUTED_VALUE"""),"") | J5: =IFERROR(__xludf.DUMMYFUNCTION("""COMPUTED_VALUE"""),"")
I6: =IFERROR(__xludf.DUMMYFUNCTION("""COMPUTED_VALUE"""),"") | J6: =IFERROR(__xludf.DUMMYFUNCTION("""COMPUTED_VALUE"""),"")
I7: =IFERROR(__xludf.DUMMYFUNCTION("""COMPUTED_VALUE"""),"") | J7: =IFERROR(__xludf.DUMMYFUNCTION("""COMPUTED_VALUE"""),"")
I8: =IFERROR(__xludf.DUMMYFUNCTION("""COMPUTED_VALUE"""),"") | J8: =IFERROR(__xludf.DUMMYFUNCTION("""COMPUTED_VALUE"""),"")
I9: =IFERROR(__xludf.DUMMYFUNCTION("""COMPUTED_VALUE"""),"") | J9: =IFERROR(__xludf.DUMMYFUNCTION("""COMPUTED_VALUE"""),"")
I10: =IFERROR(__xludf.DUMMYFUNCTION("""COMPUTED_VALUE"""),"") | J10: =IFERROR(__xludf.DUMMYFUNCTION("""COMPUTED_VALUE"""),"")
I11: =IFERROR(__xludf.DUMMYFUNCTION("""COMPUTED_VALUE"""),"") | J11: =IFERROR(__xludf.DUMMYFUNCTION("""COMPUTED_VALUE"""),"")
I12: =IFERROR(__xludf.DUMMYFUNCTION("""COMPUTED_VALUE"""),"") | J12: =IFERROR(__xludf.DUMMYFUNCTION("""COMPUTED_VALUE"""),"")
I13: =IFERROR(__xludf.DUMMYFUNCTION("""COMPUTED_VALUE"""),"") | J13: =IFERROR(__xludf.DUMMYFUNCTION("""COMPUTED_VALUE"""),"")
I14: =IFERROR(__xludf.DUMMYFUNCTION("""COMPUTED_VALUE"""),"") | J14: =IFERROR(__xludf.DUMMYFUNCTION("""COMPUTED_VALUE"""),"")
I15: =IFERROR(__xludf.DUMMYFUNCTION("""COMPUTED_VALUE"""),"") | J15: =IFERROR(__xludf.DUMMYFUNCTION("""COMPUTED_VALUE"""),"")
I16: =IFERROR(__xludf.DUMMYFUNCTION("""COMPUTED_VALUE"""),"") | J16: =IFERROR(__xludf.DUMMYFUNCTION("""COMPUTED_VALUE"""),"")
... I16155: =IFERROR(__xludf.DUMMYFUNCTION("""COMPUTED_VALUE"""),"") | J16155: =IFERROR(__xludf.DUMMYFUNCTION("""COMPUTED_VALUE"""),"")

Sheet Unit Check
A1: Full Address Formatted | B1: Source | D1: input | E1: suffix | G1: input | H1: abbrev
A2: 195 Lexington St | B2: Assessing | D2: Av | E2: Ave | G2: North | H2: N
A3: 197 Lexington St | B3: Assessing | D3: Ave | E3: Ave | G3: South | H3: S
A4: 199 Lexington St | B4: Assessing | D4: Avenue | E4: Ave | G4: East | H4: E
A5: 201 Lexington St | B5: Assessing | D5: Blvd | E5: Blvd | G5: West | H5: W
A6: 203 Lexington St | B6: Assessing | D6: Boulevard | E6: Blvd | G6: Saint | H6: St
A7: 205 Lexington St | B7: Assessing | D7: Cct | E7: Circuit | G7: Father | H7: Fr
A8: 209 Lexington St | B8: Assessing | D8: Circuit | E8: Circuit | G8: Monsignor | H8: Msgr
A9: 213 Lexington St | B9: Assessing | D9: Cir | E9: Cir | G9: 1st | H9: First
A10: 215 Lexington St | B10: Assessing | D10: Circle | E10: Cir | G10: 2nd | H10: Second
A11: 217 Lexington St | B11: Assessing | D11: Court | E11: Ct | G11: 3rd | H11: Third
A12: 219 Lexington St | B12: Assessing | D12: Ct | E12: Ct | G12: 4th | H12: Fourth
... A23: 247 Lexington St | B23: Assessing | D23: Highway | E23: Hwy | G23: Lakeshore | H23: Lake Shore
A24: 249 Lexington St | B24: Assessing | D24: Hwy | E24: Hwy
A25: 251 Lexington St | B25: Assessing | D25: Lane | E25: Ln
A26: 31 Prescott St | B26: Assessing | D26: Ln | E26: Ln
A27: 35 Prescott St | B27: Assessing | D27: Park | E27: Pk
A28: 37 Prescott St | B28: Assessing | D28: Pk | E28: Pk
A29: 252 Princeton St | B29: Assessing | D29: Parkway | E29: Pkwy
A30: 250 Princeton St | B30: Assessing | D30: Pky | E30: Pkwy
A31: 248 Princeton St | B31: Assessing | D31: Pkwy | E31: Pkwy
A32: 244 Princeton St | B32: Assessing | D32: Pl | E32: Pl
A33: 242 Princeton St | B33: Assessing | D33: Place | E33: Pl
A34: 240 Princeton St | B34: Assessing | D34: Plaza | E34: Pl
A35: 238 Princeton St | B35: Assessing | D35: Rd | E35: Rd
... A60: 421 Saratoga St | B60: Assessing | D60: Te | E60: Ter
A61: 423 Saratoga St | B61: Assessing
A62: 425 Saratoga St | B62: Assessing
A63: 427 Saratoga St | B63: Assessing
A64: 429 Saratoga St | B64: Assessing
A65: 431 Saratoga St | B65: Assessing
A66: 433 Saratoga St | B66: Assessing
A67: 443 Saratoga St | B67: Assessing
A68: 445 Saratoga St | B68: Assessing
A69: 447 Saratoga St | B69: Assessing
A70: 449 Saratoga St | B70: Assessing
A71: 390 Chelsea St | B71: Assessing
A72: 382 Chelsea St | B72: Assessing
... A54769: 10 South Huntington Ave | B54769: Alternative Formatting

Sheet University Bldgs
A1: Accountability Report for University-Owned/Leased Buildings Please refer to the Data Dictionary tab for instruction to complete this form. Beige cells are auto-populated and do not need to be filled out.
A2: 1a. Total Buildings Owned for Student Housing: | F2: 1b. Total Units Owned: | J2: 3. Comments: | Q2: Total | R2: Matches Stats (Y/N)
A3: 1c. Total Buildings Leased for Student Housing: | F3: 1d. Total Units Leased: | P3: Total # Undergrads Residing in Bldg | Q3: =SUM(J8:J245) -> 0 | R3: =Q3='Summary Stats'!E50 -> TRUE
A4: 2a. Total Buildings Owned for Student Housing in Boston: | F4: 2b. Total Units Owned in Boston: | P4: Total # Grads Residing in Bldg | Q4: =SUM(K8:K245) -> 0 | R4: =Q4='Summary Stats'!H50 -> TRUE
A5: 2c. Total Buildings Leased for Student Housing in Boston: | F5: 2d. Total Units Leased in Boston:
A6: Please list all buildings owned, leased/rented (in full or in part), or operated by the University in the City of Boston and used to house students. Each separate address constitutes a separate building.
A7: 4a. Residence Hall/Building Name | B7: 4b. Street # | C7: 4c. Street Name | D7: 4d. Street Suffix | E7: 4e. Zip | F7: 5. Owned (O) or Leased (L) | G7: 6. Operated by University (Y/N) | H7: 7a. Total Units in Bldg | I7: 7b. # Units Leased to University | J7: 8a. # Undergrads Residing in Bldg | K7: 8b. # Grads Residing in Bldg | L7: 9. City of Boston Rental Registration Number | M7: 10a. Owner's Name (Last, First or Company Name) | N7: 10b. Owner's Address (Street #, Street, City, State, Zip)

Sheet Dorm-Bed Data
A1: Dorm-Beds in Boston
A2: Instructions:
A3: • This tab collects a point-in-time (the Fall) count of occupied and unoccupied beds within the City of Boston for each institution. • Please enter the number of dorm-beds by class type (undergraduate vs graduate) or in row 13 if there are beds not designated by class. • Beige cells are auto-populated and do not need to be filled out.
A6: Dorm-Bed Point-in-Time Vacancy Rate (City of Boston) | D6: Occupied Beds | E6: Vacant Beds | F6: Total Beds | G6: % Vacant
A7: Total Undergraduate Beds | F7: =SUM(D7+E7) -> 0 | G7: =E7/F7 -> #DIV/0!
A8: Total Graduate Beds | F8: =SUM(D8+E8) -> 0 | G8: =E8/F8 -> #DIV/0!
A9: Other Beds (If not designated for Undergraduates or Graduates) | F9: =SUM(D9+E9) -> 0 | G9: =E9/F9 -> #DIV/0!
A10: Total Beds | D10: =SUM(D7:D9) -> 0 | E10: =SUM(E7:E9) -> 0 | F10: =SUM(D10+E10) -> 0 | G10: =E10/F10 -> #DIV/0!
